BEGIN:VCALENDAR
VERSION:2.0
PRODID:-//Technical Topics - ECPv6.15.17.1//NONSGML v1.0//EN
CALSCALE:GREGORIAN
METHOD:PUBLISH
X-ORIGINAL-URL:https://techtopics.co.uk
X-WR-CALDESC:Events for Technical Topics
REFRESH-INTERVAL;VALUE=DURATION:PT1H
X-Robots-Tag:noindex
X-PUBLISHED-TTL:PT1H
BEGIN:VTIMEZONE
TZID:Europe/London
BEGIN:DAYLIGHT
TZOFFSETFROM:+0000
TZOFFSETTO:+0100
TZNAME:BST
DTSTART:20250330T010000
END:DAYLIGHT
BEGIN:STANDARD
TZOFFSETFROM:+0100
TZOFFSETTO:+0000
TZNAME:GMT
DTSTART:20251026T010000
END:STANDARD
BEGIN:DAYLIGHT
TZOFFSETFROM:+0000
TZOFFSETTO:+0100
TZNAME:BST
DTSTART:20260329T010000
END:DAYLIGHT
BEGIN:STANDARD
TZOFFSETFROM:+0100
TZOFFSETTO:+0000
TZNAME:GMT
DTSTART:20261025T010000
END:STANDARD
BEGIN:DAYLIGHT
TZOFFSETFROM:+0000
TZOFFSETTO:+0100
TZNAME:BST
DTSTART:20270328T010000
END:DAYLIGHT
BEGIN:STANDARD
TZOFFSETFROM:+0100
TZOFFSETTO:+0000
TZNAME:GMT
DTSTART:20271031T010000
END:STANDARD
END:VTIMEZONE
BEGIN:VEVENT
DTSTART;TZID=Europe/London:20260105T090000
DTEND;TZID=Europe/London:20260109T170000
DTSTAMP:20260421T094742
CREATED:20251020T130711Z
LAST-MODIFIED:20251020T130717Z
UID:31650-1767603600-1767978000@techtopics.co.uk
SUMMARY:Diagnostic Bootcamp
DESCRIPTION:
URL:https://techtopics.co.uk/event/diagnostic-bootcamp-1/
LOCATION:Technical Topics TTHQ2\, Unit F Thistle Park\, Crossways Road\, Bridgwater\, Somerset\, TA6 6LS\, United Kingdom
CATEGORIES:Diagnostic Bootcamp,Technical Training
ORGANIZER;CN="Technical Topics Ltd":MAILTO:hello@techtopics.co.uk
END:VEVENT
BEGIN:VEVENT
DTSTART;TZID=Europe/London:20260112T090000
DTEND;TZID=Europe/London:20260113T170000
DTSTAMP:20260421T094742
CREATED:20251111T085956Z
LAST-MODIFIED:20251111T090258Z
UID:31828-1768208400-1768323600@techtopics.co.uk
SUMMARY:Eeproms\, Coding and Programming
DESCRIPTION:
URL:https://techtopics.co.uk/event/eeproms-1/
LOCATION:Technical Topics TTHQ2\, Unit F Thistle Park\, Crossways Road\, Bridgwater\, Somerset\, TA6 6LS\, United Kingdom
CATEGORIES:Eeproms,Technical Training
ORGANIZER;CN="Technical Topics Ltd":MAILTO:hello@techtopics.co.uk
END:VEVENT
BEGIN:VEVENT
DTSTART;TZID=Europe/London:20260119T090000
DTEND;TZID=Europe/London:20260120T170000
DTSTAMP:20260421T094742
CREATED:20250924T101711Z
LAST-MODIFIED:20251112T155828Z
UID:31404-1768813200-1768928400@techtopics.co.uk
SUMMARY:Oscilloscope Masterclass
DESCRIPTION:
URL:https://techtopics.co.uk/event/oscilloscope-masterclass/
LOCATION:Technical Topics TTHQ2\, Unit F Thistle Park\, Crossways Road\, Bridgwater\, Somerset\, TA6 6LS\, United Kingdom
CATEGORIES:Oscilloscope Masterclass,Technical Training
ORGANIZER;CN="Technical Topics Ltd":MAILTO:hello@techtopics.co.uk
END:VEVENT
BEGIN:VEVENT
DTSTART;TZID=Europe/London:20260126T090000
DTEND;TZID=Europe/London:20260127T170000
DTSTAMP:20260421T094742
CREATED:20251117T091233Z
LAST-MODIFIED:20251117T091239Z
UID:31971-1769418000-1769533200@techtopics.co.uk
SUMMARY:AdBlue & NOx Reduction Systems
DESCRIPTION:
URL:https://techtopics.co.uk/event/adblue-nox-reduction-systems-1/
LOCATION:Technical Topics TTHQ2\, Unit F Thistle Park\, Crossways Road\, Bridgwater\, Somerset\, TA6 6LS\, United Kingdom
CATEGORIES:AdBlue,Technical Training
ORGANIZER;CN="Technical Topics Ltd":MAILTO:hello@techtopics.co.uk
END:VEVENT
END:VCALENDAR