BEGIN:VCALENDAR
VERSION:2.0
PRODID:-//Technical Topics - ECPv6.15.17.1//NONSGML v1.0//EN
CALSCALE:GREGORIAN
METHOD:PUBLISH
X-WR-CALNAME:Technical Topics
X-ORIGINAL-URL:https://techtopics.co.uk
X-WR-CALDESC:Events for Technical Topics
REFRESH-INTERVAL;VALUE=DURATION:PT1H
X-Robots-Tag:noindex
X-PUBLISHED-TTL:PT1H
BEGIN:VTIMEZONE
TZID:Europe/London
BEGIN:DAYLIGHT
TZOFFSETFROM:+0000
TZOFFSETTO:+0100
TZNAME:BST
DTSTART:20250330T010000
END:DAYLIGHT
BEGIN:STANDARD
TZOFFSETFROM:+0100
TZOFFSETTO:+0000
TZNAME:GMT
DTSTART:20251026T010000
END:STANDARD
BEGIN:DAYLIGHT
TZOFFSETFROM:+0000
TZOFFSETTO:+0100
TZNAME:BST
DTSTART:20260329T010000
END:DAYLIGHT
BEGIN:STANDARD
TZOFFSETFROM:+0100
TZOFFSETTO:+0000
TZNAME:GMT
DTSTART:20261025T010000
END:STANDARD
BEGIN:DAYLIGHT
TZOFFSETFROM:+0000
TZOFFSETTO:+0100
TZNAME:BST
DTSTART:20270328T010000
END:DAYLIGHT
BEGIN:STANDARD
TZOFFSETFROM:+0100
TZOFFSETTO:+0000
TZNAME:GMT
DTSTART:20271031T010000
END:STANDARD
END:VTIMEZONE
BEGIN:VEVENT
DTSTART;TZID=Europe/London:20260126T090000
DTEND;TZID=Europe/London:20260127T170000
DTSTAMP:20260423T133450
CREATED:20250924T133901Z
LAST-MODIFIED:20250924T133908Z
UID:31492-1769418000-1769533200@techtopics.co.uk
SUMMARY:Master Technician New Intake
DESCRIPTION:
URL:https://techtopics.co.uk/event/master-technician-new-intake/
LOCATION:Technical Topics TTHQ2\, Unit F Thistle Park\, Crossways Road\, Bridgwater\, Somerset\, TA6 6LS\, United Kingdom
CATEGORIES:Master Technician,Technician Training Programmes
ORGANIZER;CN="Technical Topics Ltd":MAILTO:hello@techtopics.co.uk
END:VEVENT
END:VCALENDAR